BEGIN:VCALENDAR
VERSION:2.0
PRODID:-//1st of the Day® - ECPv6.15.20//NONSGML v1.0//EN
CALSCALE:GREGORIAN
METHOD:PUBLISH
X-ORIGINAL-URL:https://1st-oftheday.com
X-WR-CALDESC:Events for 1st of the Day®
REFRESH-INTERVAL;VALUE=DURATION:PT1H
X-Robots-Tag:noindex
X-PUBLISHED-TTL:PT1H
BEGIN:VTIMEZONE
TZID:UTC
BEGIN:STANDARD
TZOFFSETFROM:+0000
TZOFFSETTO:+0000
TZNAME:UTC
DTSTART:20250101T000000
END:STANDARD
END:VTIMEZONE
BEGIN:VEVENT
DTSTART;TZID=UTC:20260220T180000
DTEND;TZID=UTC:20260220T210000
DTSTAMP:20260423T210542
CREATED:20260205T114602Z
LAST-MODIFIED:20260210T195355Z
UID:10649-1771610400-1771621200@1st-oftheday.com
SUMMARY:FOTD Happy Hour @ High Society Detroit
DESCRIPTION:FOTD Happy Hour @ High Society Detroit\n\nYou’re officially invited to experience the vibe. \nJoin 1st of the Day for a special Happy Hour at High Society on Friday\, February 20—an evening dedicated to celebration\, connection\, and raising a glass to the moments that matter most. \nExpect great energy\, signature FOTD culture\, and a room full of people who believe every MOMENT deserves a toast. \nLocation: High Society Lounge. 12826 Livernois\, Detroit\, MI 48238\nDate: Friday\, February 20\nTime: 6-9pm \nBring a friend\, bring your energy\, and most importantly… bring your reason to celebrate. \nBecause the first toast is never just a drink—it’s a moment. \nWe’ll see you there. \nCheers\,\n1st of the Day
URL:https://1st-oftheday.com/event/fotd-happy-hour-high-society-detroit/
LOCATION:High Society\, 12826 Livernois\, Detroit\, MI\, 48238\, United States
CATEGORIES:Happy Hour
ATTACH;FMTTYPE=image/jpeg:https://1st-oftheday.com/wp-content/uploads/2026/02/thirsty-thursdays.jpg
ORGANIZER;CN="1st of the Day":MAILTO:1stoftheday@1st-oftheday.com
END:VEVENT
END:VCALENDAR