BEGIN:VCALENDAR
VERSION:2.0
PRODID:-//1st of the Day® - ECPv6.15.20//NONSGML v1.0//EN
CALSCALE:GREGORIAN
METHOD:PUBLISH
X-WR-CALNAME:1st of the Day®
X-ORIGINAL-URL:https://1st-oftheday.com
X-WR-CALDESC:Events for 1st of the Day®
REFRESH-INTERVAL;VALUE=DURATION:PT1H
X-Robots-Tag:noindex
X-PUBLISHED-TTL:PT1H
BEGIN:VTIMEZONE
TZID:UTC
BEGIN:STANDARD
TZOFFSETFROM:+0000
TZOFFSETTO:+0000
TZNAME:UTC
DTSTART:20190101T000000
END:STANDARD
END:VTIMEZONE
BEGIN:VEVENT
DTSTART;TZID=UTC:20260417T180000
DTEND;TZID=UTC:20260417T210000
DTSTAMP:20260423T174423
CREATED:20260405T105607Z
LAST-MODIFIED:20260414T123832Z
UID:10728-1776448800-1776459600@1st-oftheday.com
SUMMARY:F.O.T.D. HAPPY HOUR @ HIGH SOCIETY LOUNGE 2
DESCRIPTION:F.O.T.D. HAPPY HOUR @ HIGH SOCIETY LOUNGE 2\n\nHello 1st of the Day Family\, \nWe’re excited to welcome you back for another F.O.T.D. Happy Hour at High Society Lounge. \nEvery FOTD Happy Hour is about one thing—celebrating the moment. And this one will be no different. \nExpect a curated vibe\, great energy\, and a space filled with people who appreciate good drinks\, real connections\, and meaningful moments. \n Location: High Society Lounge\n Date: Friday\, April 17 2026\n Time: 6-9pm \nWhether you’ve been to one before or this is your first time\, this is your invitation to be part of the experience. \nPull up with your people—or come meet your next connection.\nEither way\, make sure you’re in the room when the toast goes up. \nHere’s to showing up\, being present\, and celebrating it all. \n  \nCheers\,\nJohnie Drake\n1st of the Day
URL:https://1st-oftheday.com/event/f-o-t-d-happy-hour-high-society-lounge-2/
LOCATION:High Society\, 12826 Livernois\, Detroit\, MI\, 48238\, United States
CATEGORIES:Happy Hour
ATTACH;FMTTYPE=image/jpeg:https://1st-oftheday.com/wp-content/uploads/2026/04/Thirsty-thursdays-happy-hour-promo-bar-advert.jpg
ORGANIZER;CN="1st of the Day":MAILTO:1stoftheday@1st-oftheday.com
END:VEVENT
BEGIN:VEVENT
DTSTART;TZID=UTC:20260220T180000
DTEND;TZID=UTC:20260220T210000
DTSTAMP:20260423T174423
CREATED:20260205T114602Z
LAST-MODIFIED:20260210T195355Z
UID:10649-1771610400-1771621200@1st-oftheday.com
SUMMARY:FOTD Happy Hour @ High Society Detroit
DESCRIPTION:FOTD Happy Hour @ High Society Detroit\n\nYou’re officially invited to experience the vibe. \nJoin 1st of the Day for a special Happy Hour at High Society on Friday\, February 20—an evening dedicated to celebration\, connection\, and raising a glass to the moments that matter most. \nExpect great energy\, signature FOTD culture\, and a room full of people who believe every MOMENT deserves a toast. \nLocation: High Society Lounge. 12826 Livernois\, Detroit\, MI 48238\nDate: Friday\, February 20\nTime: 6-9pm \nBring a friend\, bring your energy\, and most importantly… bring your reason to celebrate. \nBecause the first toast is never just a drink—it’s a moment. \nWe’ll see you there. \nCheers\,\n1st of the Day
URL:https://1st-oftheday.com/event/fotd-happy-hour-high-society-detroit/
LOCATION:High Society\, 12826 Livernois\, Detroit\, MI\, 48238\, United States
CATEGORIES:Happy Hour
ATTACH;FMTTYPE=image/jpeg:https://1st-oftheday.com/wp-content/uploads/2026/02/thirsty-thursdays.jpg
ORGANIZER;CN="1st of the Day":MAILTO:1stoftheday@1st-oftheday.com
END:VEVENT
BEGIN:VEVENT
DTSTART;TZID=UTC:20220803T170000
DTEND;TZID=UTC:20220803T230000
DTSTAMP:20260423T174423
CREATED:20220511T161633Z
LAST-MODIFIED:20220716T133658Z
UID:7350-1659546000-1659567600@1st-oftheday.com
SUMMARY:1stOTD Happy Hour/Party
DESCRIPTION:1stOTD Happy Hour/Party\nCelebrate your monthly accomplishments\nThe 1stOTD Way with a drink on me! \nWe are here to encourage you to recognize and celebrate the moment with our celebratory toast “1st of the Day\,” and products that serve as a memento of the occasion. \n1stOTD Party Cups are the signature keepsake of the Happy Hour. Be sure to bring yours or purchase one for a free drink. (Limited Supply). \nCome as you are fresh off work or get casual for the after party later in the evening. However you decide\, pull up on me and the rest of the 1stOTD family \nSounds will be provided by DJ HotMix BK \nFood by Chef Earl & Associates \nHappy Hour: 5-7pm (FREE)\nParty: 7-11pm ($10 advance/$15 at the door)   \n#1stoftheday #Ainthad1allday #Firstoftheday #FOTD #1stOTD #celebratethemoment #celebratelife\n#toast #cheers #cupsup #drinkup\n#toastup #drinkswithfriends\n#afterworkdrinks #letsdrink
URL:https://1st-oftheday.com/event/f-o-t-d-happy-hour-party/
LOCATION:Hotel Saint Regis Detroit\, 3071 W. Grand Blvd.\, Detroit\, MI\, 48202\, United States
CATEGORIES:Happy Hour,Party
ATTACH;FMTTYPE=image/png:https://1st-oftheday.com/wp-content/uploads/2022/05/20220511_112415_0000.png
ORGANIZER;CN="1st of the Day":MAILTO:1stoftheday@1st-oftheday.com
END:VEVENT
BEGIN:VEVENT
DTSTART;TZID=UTC:20200501T180000
DTEND;TZID=UTC:20200501T200000
DTSTAMP:20260423T174423
CREATED:20200428T172136Z
LAST-MODIFIED:20200428T173351Z
UID:6001-1588356000-1588363200@1st-oftheday.com
SUMMARY:F.O.T.D. Virtual Happy Hour
DESCRIPTION:F.O.T.D. (First of the Day) Virtual Happy Hour 🍻🥂\nLet’s create\, celebrate\, and cherish the moment! Another week of quarantine\, but we made it! A little distance never comes between us and our Happy Hour. \nThis weeks color is purple. Wear something purple\, preferably a 1st of the Day tee. Check out our website for all F.O.T.D. Merch\nwww.1st-oftheday.com. \nWe will have special invited guests\, games\, dance breaks\, drinks\, and more fun than you can imagine. \nTell a friend and bring a friend! 🎊🙌🏽 \nZoom: https://zoom.us/j/93346174744
URL:https://1st-oftheday.com/event/f-o-t-d-virtual-happy-hour-2/
LOCATION:MI
CATEGORIES:Experience,Happy Hour,Online
ATTACH;FMTTYPE=image/jpeg:https://1st-oftheday.com/wp-content/uploads/2020/04/FOTD-Virtual-Happy-Hour-Purple-Made-with-PosterMyWall.jpg
ORGANIZER;CN="1st of the Day":MAILTO:1stoftheday@1st-oftheday.com
END:VEVENT
END:VCALENDAR