BEGIN:VCALENDAR
VERSION:2.0
PRODID:-//1st of the Day® - ECPv6.15.20//NONSGML v1.0//EN
CALSCALE:GREGORIAN
METHOD:PUBLISH
X-WR-CALNAME:1st of the Day®
X-ORIGINAL-URL:https://1st-oftheday.com
X-WR-CALDESC:Events for 1st of the Day®
REFRESH-INTERVAL;VALUE=DURATION:PT1H
X-Robots-Tag:noindex
X-PUBLISHED-TTL:PT1H
BEGIN:VTIMEZONE
TZID:UTC
BEGIN:STANDARD
TZOFFSETFROM:+0000
TZOFFSETTO:+0000
TZNAME:UTC
DTSTART:20210101T000000
END:STANDARD
END:VTIMEZONE
BEGIN:VEVENT
DTSTART;TZID=UTC:20230325T200000
DTEND;TZID=UTC:20230326T020000
DTSTAMP:20260423T225100
CREATED:20230127T130255Z
LAST-MODIFIED:20230407T115902Z
UID:7803-1679774400-1679796000@1st-oftheday.com
SUMMARY:1st of the Day® 70's Get Down
DESCRIPTION:1st of the Day® 70’s Get Down\nJoin us Friday\, March 24th for a 70’s themed party! Hotel St. Regis will be turned into an out of sight night for all our soul brothers and sisters. Do me a solid and pull out your bell bottoms\, mini skirts\, butterfly collars\, and platforms with your afros and afro puffs for this hip night of 70’s R&B\, Dance\, and Funk! \nWe will be celebrating March birthdays\, which includes our founder\, Johnie Drake\, who will be turning the big 4-0! \nFREE ENTRY! Parking $10. \nSounds provided by DJ HotMixBK. We will not play 70’s music all night\, but be ready to boogie on down while we slide and glide down the soul train line. \nBooth and bottle service available. Email 1stofthedayllc@gmail.com for more information. \nRSVP @ www.1st-oftheday.com \n  \nView pics from party HERE  \npasscode: drake2023
URL:https://1st-oftheday.com/event/1st-of-the-day-70s-get-down/
LOCATION:Hotel Saint Regis Detroit\, 3071 W. Grand Blvd.\, Detroit\, MI\, 48202\, United States
CATEGORIES:Party
ATTACH;FMTTYPE=image/jpeg:https://1st-oftheday.com/wp-content/uploads/2023/01/70s-Birthday-Party-Made-with-PosterMyWall-1.jpg
ORGANIZER;CN="1st of the Day":MAILTO:1stoftheday@1st-oftheday.com
END:VEVENT
BEGIN:VEVENT
DTSTART;TZID=UTC:20220803T170000
DTEND;TZID=UTC:20220803T230000
DTSTAMP:20260423T225100
CREATED:20220511T161633Z
LAST-MODIFIED:20220716T133658Z
UID:7350-1659546000-1659567600@1st-oftheday.com
SUMMARY:1stOTD Happy Hour/Party
DESCRIPTION:1stOTD Happy Hour/Party\nCelebrate your monthly accomplishments\nThe 1stOTD Way with a drink on me! \nWe are here to encourage you to recognize and celebrate the moment with our celebratory toast “1st of the Day\,” and products that serve as a memento of the occasion. \n1stOTD Party Cups are the signature keepsake of the Happy Hour. Be sure to bring yours or purchase one for a free drink. (Limited Supply). \nCome as you are fresh off work or get casual for the after party later in the evening. However you decide\, pull up on me and the rest of the 1stOTD family \nSounds will be provided by DJ HotMix BK \nFood by Chef Earl & Associates \nHappy Hour: 5-7pm (FREE)\nParty: 7-11pm ($10 advance/$15 at the door)   \n#1stoftheday #Ainthad1allday #Firstoftheday #FOTD #1stOTD #celebratethemoment #celebratelife\n#toast #cheers #cupsup #drinkup\n#toastup #drinkswithfriends\n#afterworkdrinks #letsdrink
URL:https://1st-oftheday.com/event/f-o-t-d-happy-hour-party/
LOCATION:Hotel Saint Regis Detroit\, 3071 W. Grand Blvd.\, Detroit\, MI\, 48202\, United States
CATEGORIES:Happy Hour,Party
ATTACH;FMTTYPE=image/png:https://1st-oftheday.com/wp-content/uploads/2022/05/20220511_112415_0000.png
ORGANIZER;CN="1st of the Day":MAILTO:1stoftheday@1st-oftheday.com
END:VEVENT
BEGIN:VEVENT
DTSTART;TZID=UTC:20220325T190000
DTEND;TZID=UTC:20220325T230000
DTSTAMP:20260423T225100
CREATED:20220314T015344Z
LAST-MODIFIED:20220314T015344Z
UID:7075-1648234800-1648249200@1st-oftheday.com
SUMMARY:1st of the Day® Rebrand Launch & Founder Bday Party
DESCRIPTION:I’m Johnie Drake\, founder of 1st of the Day®\, invite you to learn about my company while enjoying great food\, drinks\, and company. My purpose is to share this fun-loving toast as a reminder for all professionals to recognize and celebrate the moment. As hard working overachievers\, 1st of the Day® is here to acknowledge your efforts and encourage you to take a moment to celebrate life. \nOur products include quality drinkware and apparel that serve as a memento for the occasion. \nBe ready to network and collect some of the newest additions to the 1st of the Day® line. \nTickets: $10 in advance; $15 at the Door \nDress Code: Casual – Dress Casual \nParking: Available in Hotel secured parking lot for $10
URL:https://1st-oftheday.com/event/1st-of-the-day-rebrand-launch-founder-bday-party/
LOCATION:Hotel Saint Regis Detroit\, 3071 W. Grand Blvd.\, Detroit\, MI\, 48202\, United States
CATEGORIES:Party
ATTACH;FMTTYPE=image/jpeg:https://1st-oftheday.com/wp-content/uploads/2022/03/FOTD-Rebrand-flyer-IG-Made-with-PosterMyWall.jpg
ORGANIZER;CN="1st of the Day":MAILTO:1stoftheday@1st-oftheday.com
END:VEVENT
END:VCALENDAR