BEGIN:VCALENDAR
VERSION:2.0
PRODID:-//1st of the Day® - ECPv6.15.20//NONSGML v1.0//EN
CALSCALE:GREGORIAN
METHOD:PUBLISH
X-WR-CALNAME:1st of the Day®
X-ORIGINAL-URL:https://1st-oftheday.com
X-WR-CALDESC:Events for 1st of the Day®
REFRESH-INTERVAL;VALUE=DURATION:PT1H
X-Robots-Tag:noindex
X-PUBLISHED-TTL:PT1H
BEGIN:VTIMEZONE
TZID:UTC
BEGIN:STANDARD
TZOFFSETFROM:+0000
TZOFFSETTO:+0000
TZNAME:UTC
DTSTART:20220101T000000
END:STANDARD
END:VTIMEZONE
BEGIN:VEVENT
DTSTART;TZID=UTC:20230526T190000
DTEND;TZID=UTC:20230526T210000
DTSTAMP:20260426T001428
CREATED:20230521T105342Z
LAST-MODIFIED:20230521T110423Z
UID:7375-1685127600-1685134800@1st-oftheday.com
SUMMARY:1stOTD Pedal Bike Bar Tour
DESCRIPTION:1.O.T.D. Experience – Pedal Bike Bar Tour\nCome roll with us through downtown Detroit with the Michigan Pedaler. This pedal bike bar tour will be filled with entertainment\, great company\, music\, and 1stOTD’s. Expect the unexpected during this 2 hour tour around downtown Detroit making 3 stops at local bars for drinks. \nPassengers must have and 1.O.T.D. shirt or Cup to ride. Items can be purchased online at\nwww.1st-oftheday.com. Cups will be available for purchase the day of event.\nRemember to drink responsibly and celebrate every moment like it’s the 1st!\n\nAll rides on The Michigan Pedaler start and end at McShane’s Irish Pub\, located at the iconic corner of Michigan Avenue and Trumbull. You can park in the lot where we start our rides. It is located kitty corner from the bar\, on the property of Eaton Springs (this is what you’d want to type into your GPS). You’ll meet us in this lot when it’s time for your ride as well. On most occasions\, parking is $10 (cash) but you receive a $10 voucher for food/drink at McShane’s good for that day.\n\nLearn More about the ride HERE!\n\nFAQs\n\n\nAre there ID or minimum age requirements to enter the event?\nPassengers will need to be 21 and over to ride and enter bars. Most bars will requirement ID so please remember to bring.\n\n\nWhat can I bring into the event?\n1.O.T.D. Cup\, snacks\, and drinks. NO GLASS BOTTLES\n\n\nHow can I contact the organizer with any questions?\n1stoftheday@1st-oftheday.com\n\nWhat’s the refund policy?\nNo Refunds\n\nDo I have to bring my printed ticket to the event?\nNo\n\nCan I update my registration information?\nYes\n\nIs my registration fee or ticket transferrable?\nYes\n\nIs it ok if the name on my ticket or registration doesn’t match the person who attends?\nYes
URL:https://1st-oftheday.com/event/1stotd-pedal-bike-bar-tour/
LOCATION:McShanes Irish Pub\, 1460 Michigan Ave\, Detroit\, MI\, 48216\, United States
CATEGORIES:Experience
ORGANIZER;CN="1st of the Day":MAILTO:1stoftheday@1st-oftheday.com
END:VEVENT
END:VCALENDAR