BEGIN:VCALENDAR
VERSION:2.0
PRODID:-//1st of the Day® - ECPv6.15.20//NONSGML v1.0//EN
CALSCALE:GREGORIAN
METHOD:PUBLISH
X-ORIGINAL-URL:https://1st-oftheday.com
X-WR-CALDESC:Events for 1st of the Day®
REFRESH-INTERVAL;VALUE=DURATION:PT1H
X-Robots-Tag:noindex
X-PUBLISHED-TTL:PT1H
BEGIN:VTIMEZONE
TZID:UTC
BEGIN:STANDARD
TZOFFSETFROM:+0000
TZOFFSETTO:+0000
TZNAME:UTC
DTSTART:20250101T000000
END:STANDARD
END:VTIMEZONE
BEGIN:VEVENT
DTSTART;TZID=UTC:20260516T190000
DTEND;TZID=UTC:20260516T230000
DTSTAMP:20260423T175515
CREATED:20260415T173005Z
LAST-MODIFIED:20260416T141123Z
UID:10767-1778958000-1778972400@1st-oftheday.com
SUMMARY:F.O.T.D. Game Night @ It's All Gravity
DESCRIPTION:F.O.T.D. Game Night @ It’s All Gravity\nToast. Compete. Celebrate the Moment. \nFOTD Game Night is where energy\, competition\, and good vibes collide. Pull up with your people\, grab your cup\, and lock into a night built around fun\, connection\, and unforgettable moments. \n\nEvent Details\n\nDate: Saturday\, May 16\nTime: 7-11pm\nLocation: It’s All Gravity. 3627 Cass Ave.\, Detroit\, MI 48201\nDress Code: Casual | Fly | Comfortable\nAge: 21+\n\n\nWhat’s Included\n\nOne complimentary drink with FOTD Party Cup\nAccess to all game stations\nMusic + curated vibes\nHosted games & competitions\nPhoto/video moments to capture the night\nSpecial drink perks\n\n\nGames & Experiences\n\nCard games (Spades\, Uno\, etc.)\nClassic party games\nCompetitive group challenges\nInteractive crowd moments\n\nThis isn’t just playing games—this is talking trash\, laughing loud\, and turning small wins into big celebrations. \n\nTickets\n\nGeneral Admission: $30/person or $50/couple\n\nLimited capacity. Once it’s full\, it’s full. \n\nWhy Attend\n\nReal vibes. Real people. No forced energy.\nA different type of night out—interactive\, not just standing around\nPerfect mix of competition + celebration\nBuild connections while having fun\nEvery moment is a reason to raise your cup\n\n\nSpecial Highlights\n\n“1st Win Toast” Moments – celebrate every victory\, big or small\nBirthday Toasts – pull up and get recognized\nCrowd Challenges – spontaneous games with prizes\nSignature FOTD Energy – you already know… we celebrate everything\n\n\nThe FOTD Way\nWe don’t wait for big moments.\nWe turn every moment into one. \nHere’s to Game Night. 
URL:https://1st-oftheday.com/event/f-o-t-d-game-night-its-all-gravity/
LOCATION:It’s All Gravity\, 3627 Cass Ave\, Detroit\, MI\, 48207\, United States
CATEGORIES:Experience,Game Night
ATTACH;FMTTYPE=image/png:https://1st-oftheday.com/wp-content/uploads/2026/04/file_00000000124071fdb9bde30ac332764d.png
ORGANIZER;CN="1st of the Day":MAILTO:1stoftheday@1st-oftheday.com
END:VEVENT
END:VCALENDAR