BEGIN:VCALENDAR
VERSION:2.0
PRODID:-//1st of the Day® - ECPv6.15.20//NONSGML v1.0//EN
CALSCALE:GREGORIAN
METHOD:PUBLISH
X-WR-CALNAME:1st of the Day®
X-ORIGINAL-URL:https://1st-oftheday.com
X-WR-CALDESC:Events for 1st of the Day®
REFRESH-INTERVAL;VALUE=DURATION:PT1H
X-Robots-Tag:noindex
X-PUBLISHED-TTL:PT1H
BEGIN:VTIMEZONE
TZID:UTC
BEGIN:STANDARD
TZOFFSETFROM:+0000
TZOFFSETTO:+0000
TZNAME:UTC
DTSTART:20250101T000000
END:STANDARD
END:VTIMEZONE
BEGIN:VEVENT
DTSTART;TZID=UTC:20260620T190000
DTEND;TZID=UTC:20260620T210000
DTSTAMP:20260423T223948
CREATED:20260416T161430Z
LAST-MODIFIED:20260416T162639Z
UID:10779-1781982000-1781989200@1st-oftheday.com
SUMMARY:F.O.T.D. PEDAL BIKE RIDE
DESCRIPTION:F.O.T.D. Experience – Pedal Bike Bar Tour\nCome roll with us through downtown Detroit with The HandleBar Saturday\, June 20\, 2026. This pedal bike bar tour will be filled with entertainment\, great company\, music\, and FOTD’s. Expect the unexpected during this 2 hour tour around downtown Detroit making 3 stops at local bars for drinks. And of course your 1st of the Day is on ME!!!! \nPassengers must have and F.O.T.D. shirt or cup to ride. Items can be purchased online at\nwww.1st-oftheday.com. Cups will be available for purchase the day of event.\nRemember to drink responsibly and celebrate every moment like it’s the 1st!\n\nAll rides on The HandleBar start and end at Detroit Shipping Co. 474 Peterboro St\, Detroit\, MI 48201.\n\nDetroit Shipping Co (474 Peterboro) : Parking Options\nShipping Co. Option 1: There is a gravel parking lot next to (east of) the bar that you can park a car in (typically $10/spot\, but before 3pm could be free if they do not have an attendant).  There is a 2nd gravel lot operated by a private company (not detroit shipping company) that you may also use. \nShipping Co. Option 2: Our recommendation is to park at one of the many gated & secured lots that can be found within a block of Detroit Shipping Company.  These are super easy to spot once you get near the starting location. \nShipping Co. Option 3: Street parking is free on many of the streets that line the area.  These spaces are obviously not secured. \nFor areas with metered parking Sundays are free.  For non-Sundays it’s $1/hour.  You can pay up to 4hours in advance.  Worried you’ll be at the bar for longer than that and need to re-up ?  You can manage your parking from an app here \n\n\nLearn More about the ride HERE!\n\nFAQs\n\n\nAre there ID or minimum age requirements to enter the event?\nPassengers will need to be 21 and over to ride and enter bars. Most bars will requirement ID so please remember to bring.\n\n\nWhat can I bring into the event?\nF.O.T.D. Cup\, snacks\, and drinks. NO GLASS BOTTLES\n\n\nHow can I contact the organizer with any questions?\n1stoftheday@1st-oftheday.com\n\nWhat’s the refund policy?\nNo Refunds\n\nDo I have to bring my printed ticket to the event?\nNo\n\nCan I update my registration information?\nYes\n\nIs my registration fee or ticket transferrable?\nYes\n\nIs it ok if the name on my ticket or registration doesn’t match the person who attends?\nYes
URL:https://1st-oftheday.com/event/f-o-t-d-pedal-bike-ride-2/
CATEGORIES:Experience
ATTACH;FMTTYPE=image/png:https://1st-oftheday.com/wp-content/uploads/2026/04/file_00000000684871fd9ee00ad7bde1b915.png
ORGANIZER;CN="1st of the Day":MAILTO:1stoftheday@1st-oftheday.com
END:VEVENT
END:VCALENDAR